BEGIN:VCALENDAR
VERSION:2.0
PRODID:-//Urania Barnim e. V. - ECPv6.15.20//NONSGML v1.0//EN
CALSCALE:GREGORIAN
METHOD:PUBLISH
X-ORIGINAL-URL:https://uraniabarnim.de
X-WR-CALDESC:Veranstaltungen für Urania Barnim e. V.
REFRESH-INTERVAL;VALUE=DURATION:PT1H
X-Robots-Tag:noindex
X-PUBLISHED-TTL:PT1H
BEGIN:VTIMEZONE
TZID:UTC
BEGIN:STANDARD
TZOFFSETFROM:+0000
TZOFFSETTO:+0000
TZNAME:UTC
DTSTART:20250101T000000
END:STANDARD
END:VTIMEZONE
BEGIN:VEVENT
DTSTART;TZID=UTC:20260630T080000
DTEND;TZID=UTC:20260630T170000
DTSTAMP:20260424T171823
CREATED:20260422T072047Z
LAST-MODIFIED:20260422T162530Z
UID:10000001-1782806400-1782838800@uraniabarnim.de
SUMMARY:Test 1 zur Anzeige
DESCRIPTION:Mal sehen was das hier so macht und kann
URL:https://uraniabarnim.de/event/test-1-zur-anzeige/
LOCATION:Urania Kursraum\, Eberswalder Straße 9\, Bernau b. Berlin\, 16321\, Germany
ORGANIZER;CN="Max Mustermann":MAILTO:max.mustermann@mail.de
END:VEVENT
END:VCALENDAR